BEGIN:VCALENDAR
VERSION:2.0
PRODID:-//wp-events-plugin.com//7.2.3.1//EN
TZID:America/New_York
X-WR-TIMEZONE:America/New_York
BEGIN:VEVENT
UID:392@vshc.net
DTSTART;TZID=America/New_York:20200318T083000
DTEND;TZID=America/New_York:20200318T130000
DTSTAMP:20200313T130022Z
URL:https://vshc.net/events/the-silica-standard-for-general-industry-and-c
 onstruction/
SUMMARY:The Silica Standard for General Industry and Construction
DESCRIPTION:In this presentation we will review the newly adopted VOSHA rul
 e regarding exposure to crystalline silica in\nconstruction and general in
 dustry\nLearning Objectives:\n• Understand the health hazards presented 
 by the presence of Fractured Crystalline Silica\, including\nroutes of exp
 osure and diseases caused by overexposure.\n• Understand methods of elim
 inating exposure\, including engineering controls and personal protective\
 nequipment\n• Understand the VOSHA/OSHA Regulations concerning employees
  exposed to Fractured Crystalline\nSilica in the construction industry inc
 luding penalty structure for noncompliance\n• Understanding action level
 s and permissible exposure limits as outlined in the VOSHA regulation\nVSH
 C members attendance - Free Non VSHC members - $30
CATEGORIES:VSHC Events
LOCATION:\, \, 
X-APPLE-STRUCTURED-LOCATION;VALUE=URI;X-ADDRESS=\, ;X-APPLE-RADIUS=100;X-TI
 TLE=:geo:0,0
END:VEVENT
BEGIN:VTIMEZONE
TZID:America/New_York
X-LIC-LOCATION:America/New_York
BEGIN:DAYLIGHT
DTSTART:20200308T030000
TZOFFSETFROM:-0500
TZOFFSETTO:-0400
TZNAME:EDT
END:DAYLIGHT
END:VTIMEZONE
END:VCALENDAR